BEGIN:VCALENDAR
VERSION:2.0
PRODID:icalendar-ruby
CALSCALE:GREGORIAN
METHOD:PUBLISH
BEGIN:VEVENT
DTSTAMP:20260423T111316Z
UID:86-2532062@fpcpc.org
DTSTART:20260524T170000Z
DTEND:20260524T230000Z
CLASS:PUBLIC
CREATED:20260422T142938
DESCRIPTION:"Not Your Talent" Talent Show\nSign up\, and list your talent t
 hat you can perform...can\, but wont. Instead\, each person will be random
 ly assigned someone else's talent to perform. You could do amazing and dis
 cover a hidden talent! You could flop...but honestly\, that's probably goi
 ng to be all of us. A fun time to hangout\, be silly\, and just get to kno
 w those around you.\nLunch and snacks will be provided. Invite friends\, b
 ut please make sure everyone registers\, so we can have enough for everyon
 e.
LAST-MODIFIED:20260422T142938
LOCATION:Student Cetner
SUMMARY:"Not Your Talent" Talent Show
URL;VALUE=URI:https://fpcpc.org/events/not-your-talent-talent-show/2026-05-
 24
ATTACH;FILENAME=Talent Show Flyer.jpg;FMTTYPE=image/jpeg:https://dq5pwpg1q8
 ru0.cloudfront.net/2026/04/22/19/28/59/e9fe246c-eb4d-4891-bbb6-ab106bbe3bb
 2/Talent%20Show%20Flyer.jpg
ATTACH;FILENAME=Talent Show Flyer.jpg;FMTTYPE=image/jpeg:https://dq5pwpg1q8
 ru0.cloudfront.net/2026/04/22/19/28/58/ce6d887c-a794-4bca-8acd-079b127649e
 a/Talent%20Show%20Flyer.jpg
END:VEVENT
END:VCALENDAR
